BEGIN:VCALENDAR
VERSION:2.0
PRODID:-//Slovenský CB rádioklub - ECPv6.15.18//NONSGML v1.0//EN
CALSCALE:GREGORIAN
METHOD:PUBLISH
X-WR-CALNAME:Slovenský CB rádioklub
X-ORIGINAL-URL:https://www.scbr.sk
X-WR-CALDESC:Udalosti pre Slovenský CB rádioklub
REFRESH-INTERVAL;VALUE=DURATION:PT1H
X-Robots-Tag:noindex
X-PUBLISHED-TTL:PT1H
BEGIN:VTIMEZONE
TZID:Europe/Bratislava
BEGIN:DAYLIGHT
TZOFFSETFROM:+0100
TZOFFSETTO:+0200
TZNAME:CEST
DTSTART:20250330T010000
END:DAYLIGHT
BEGIN:STANDARD
TZOFFSETFROM:+0200
TZOFFSETTO:+0100
TZNAME:CET
DTSTART:20251026T010000
END:STANDARD
BEGIN:DAYLIGHT
TZOFFSETFROM:+0100
TZOFFSETTO:+0200
TZNAME:CEST
DTSTART:20260329T010000
END:DAYLIGHT
BEGIN:STANDARD
TZOFFSETFROM:+0200
TZOFFSETTO:+0100
TZNAME:CET
DTSTART:20261025T010000
END:STANDARD
BEGIN:DAYLIGHT
TZOFFSETFROM:+0100
TZOFFSETTO:+0200
TZNAME:CEST
DTSTART:20270328T010000
END:DAYLIGHT
BEGIN:STANDARD
TZOFFSETFROM:+0200
TZOFFSETTO:+0100
TZNAME:CET
DTSTART:20271031T010000
END:STANDARD
END:VTIMEZONE
BEGIN:VEVENT
DTSTART;TZID=Europe/Bratislava:20260424T160000
DTEND;TZID=Europe/Bratislava:20260425T150000
DTSTAMP:20260424T061032
CREATED:20251222T110539Z
LAST-MODIFIED:20260409T173529Z
UID:16521-1777046400-1777129200@www.scbr.sk
SUMMARY:CB stretnutie Remata
DESCRIPTION:Slovenský CB rádioklub pozýva svojich členov\, ako aj ostatných užívateľov rádioových vĺn na tradičné CB stretnutie Remata\, ktoré sa uskutoční v dňoch 24. a 25. apríl 2026 (piatok a sobota).  Piatkový voľný program a priateľské rozhovory vystrieda sobotná členská schôdza SCBR so začiatkom o 10. hodine.  \nProgram výročnej členskej schôdze:\n\nOtvorenie\nSchválenie programu VČS\nVoľba predsedajúceho a zapisovateľa VČS \nZmena vnútorných dokumentov SCBR\nSpolupráca SCBR s ECBF\nSpráva o činnosti SCBR\nPlánované aktivity SCBR\nSpráva KRK o kontrole hospodárenia SCBR\nOcenenie Cébečkár roka\nVyhlásenie výsledkov súťaží\nDiskusia\nZáver\n\nPo skončení VČS bude program pokračovať spoločným fotografovaním\, žrebovaním tomboly a prednáškou o expedícii PJ6Y (Saba Island) \nZároveň už teraz ponúkame priestor v diskusii. V nej môže vystúpiť ktokoľvek a prezentovať činnosť súvisiacu s CB alebo PMR pásmom.  Osvedčený program doplnia burza rádiotechniky a príslušenstva. Výborná kuchyňa a bar budú k dispozícii. Kým si tatko cébečkár pokecá s CB kamarátmi\, manželku s deťmi potešia aj krátke vychádzky do okolia. A samozrejme sa potešíme aj vašim príspevkom do tomboly. \nZáujemcovia o ubytovanie môžu rezerváciu uskutočniť telefonicky na 0902 500 900 (Chata Poniklec). Kto bude mať záujem o obed\, môže si ho zakúpiť pri prezentácii.
URL:https://www.scbr.sk/event/cb-stretnutie-remata-2/
LOCATION:Chata Poniklec\, REMATA\, Remata\, Ráztočno
ORGANIZER;CN="SCBR":MAILTO:scbr@scbr.sk
END:VEVENT
END:VCALENDAR