BEGIN:VCALENDAR
VERSION:2.0
PRODID:-//Slovenský CB rádioklub - ECPv6.15.18//NONSGML v1.0//EN
CALSCALE:GREGORIAN
METHOD:PUBLISH
X-ORIGINAL-URL:https://www.scbr.sk
X-WR-CALDESC:Udalosti pre Slovenský CB rádioklub
REFRESH-INTERVAL;VALUE=DURATION:PT1H
X-Robots-Tag:noindex
X-PUBLISHED-TTL:PT1H
BEGIN:VTIMEZONE
TZID:Europe/Paris
BEGIN:DAYLIGHT
TZOFFSETFROM:+0100
TZOFFSETTO:+0200
TZNAME:CEST
DTSTART:20250330T010000
END:DAYLIGHT
BEGIN:STANDARD
TZOFFSETFROM:+0200
TZOFFSETTO:+0100
TZNAME:CET
DTSTART:20251026T010000
END:STANDARD
BEGIN:DAYLIGHT
TZOFFSETFROM:+0100
TZOFFSETTO:+0200
TZNAME:CEST
DTSTART:20260329T010000
END:DAYLIGHT
BEGIN:STANDARD
TZOFFSETFROM:+0200
TZOFFSETTO:+0100
TZNAME:CET
DTSTART:20261025T010000
END:STANDARD
BEGIN:DAYLIGHT
TZOFFSETFROM:+0100
TZOFFSETTO:+0200
TZNAME:CEST
DTSTART:20270328T010000
END:DAYLIGHT
BEGIN:STANDARD
TZOFFSETFROM:+0200
TZOFFSETTO:+0100
TZNAME:CET
DTSTART:20271031T010000
END:STANDARD
END:VTIMEZONE
BEGIN:VEVENT
DTSTART;TZID=Europe/Paris:20260523T180000
DTEND;TZID=Europe/Paris:20260524T080000
DTSTAMP:20260424T073456
CREATED:20251231T140453Z
LAST-MODIFIED:20251231T140516Z
UID:16556-1779559200-1779609600@www.scbr.sk
SUMMARY:Éter bez hraníc
DESCRIPTION:Memoriál Milana 42 \nnajobľúbenejšia CB súťaž na Slovensku aj v Česku. Prihlasovanie aj propozície na webstránke (link nižšie)
URL:https://www.scbr.sk/event/eter-bez-hranic/
LOCATION:CZE + SVK
ORGANIZER;CN="SCBR":MAILTO:scbr@scbr.sk
END:VEVENT
END:VCALENDAR