BEGIN:VCALENDAR
VERSION:2.0
PRODID:-//Slovenský CB rádioklub - ECPv6.15.18//NONSGML v1.0//EN
CALSCALE:GREGORIAN
METHOD:PUBLISH
X-ORIGINAL-URL:https://www.scbr.sk
X-WR-CALDESC:Udalosti pre Slovenský CB rádioklub
REFRESH-INTERVAL;VALUE=DURATION:PT1H
X-Robots-Tag:noindex
X-PUBLISHED-TTL:PT1H
BEGIN:VTIMEZONE
TZID:Europe/Paris
BEGIN:DAYLIGHT
TZOFFSETFROM:+0100
TZOFFSETTO:+0200
TZNAME:CEST
DTSTART:20250330T010000
END:DAYLIGHT
BEGIN:STANDARD
TZOFFSETFROM:+0200
TZOFFSETTO:+0100
TZNAME:CET
DTSTART:20251026T010000
END:STANDARD
BEGIN:DAYLIGHT
TZOFFSETFROM:+0100
TZOFFSETTO:+0200
TZNAME:CEST
DTSTART:20260329T010000
END:DAYLIGHT
BEGIN:STANDARD
TZOFFSETFROM:+0200
TZOFFSETTO:+0100
TZNAME:CET
DTSTART:20261025T010000
END:STANDARD
BEGIN:DAYLIGHT
TZOFFSETFROM:+0100
TZOFFSETTO:+0200
TZNAME:CEST
DTSTART:20270328T010000
END:DAYLIGHT
BEGIN:STANDARD
TZOFFSETFROM:+0200
TZOFFSETTO:+0100
TZNAME:CET
DTSTART:20271031T010000
END:STANDARD
END:VTIMEZONE
BEGIN:VEVENT
DTSTART;TZID=Europe/Paris:20260620T073000
DTEND;TZID=Europe/Paris:20260620T130000
DTSTAMP:20260424T073553
CREATED:20260418T044327Z
LAST-MODIFIED:20260418T044327Z
UID:16981-1781940600-1781960400@www.scbr.sk
SUMMARY:Stretnutie rádioamatérov Rakovice
DESCRIPTION:Celoslovenské stretnutie rádioamatérov a priateľov rádioamatérskeho vysielania spojené s burzou\, ktoré sa tradične koná v priestoroch Strednej odbornej školy.
URL:https://www.scbr.sk/event/stretnutie-radioamaterov-rakovice/
LOCATION:Rakovice\, Spojená škola\, Rakovice 25\, Rakovice\, Slovenská republika
ORGANIZER;CN="Oblastn%C3%BD CB r%C3%A1dioklub Stredn%C3%A9 Pova%C5%BEie":MAILTO:ocbrklub@gmail.com
END:VEVENT
END:VCALENDAR