BEGIN:VCALENDAR
VERSION:2.0
PRODID:-//Slovenský CB rádioklub - ECPv6.15.18//NONSGML v1.0//EN
CALSCALE:GREGORIAN
METHOD:PUBLISH
X-WR-CALNAME:Slovenský CB rádioklub
X-ORIGINAL-URL:https://www.scbr.sk
X-WR-CALDESC:Udalosti pre Slovenský CB rádioklub
REFRESH-INTERVAL;VALUE=DURATION:PT1H
X-Robots-Tag:noindex
X-PUBLISHED-TTL:PT1H
BEGIN:VTIMEZONE
TZID:Europe/Paris
BEGIN:DAYLIGHT
TZOFFSETFROM:+0100
TZOFFSETTO:+0200
TZNAME:CEST
DTSTART:20240331T010000
END:DAYLIGHT
BEGIN:STANDARD
TZOFFSETFROM:+0200
TZOFFSETTO:+0100
TZNAME:CET
DTSTART:20241027T010000
END:STANDARD
BEGIN:DAYLIGHT
TZOFFSETFROM:+0100
TZOFFSETTO:+0200
TZNAME:CEST
DTSTART:20250330T010000
END:DAYLIGHT
BEGIN:STANDARD
TZOFFSETFROM:+0200
TZOFFSETTO:+0100
TZNAME:CET
DTSTART:20251026T010000
END:STANDARD
BEGIN:DAYLIGHT
TZOFFSETFROM:+0100
TZOFFSETTO:+0200
TZNAME:CEST
DTSTART:20260329T010000
END:DAYLIGHT
BEGIN:STANDARD
TZOFFSETFROM:+0200
TZOFFSETTO:+0100
TZNAME:CET
DTSTART:20261025T010000
END:STANDARD
BEGIN:DAYLIGHT
TZOFFSETFROM:+0100
TZOFFSETTO:+0200
TZNAME:CEST
DTSTART:20270328T010000
END:DAYLIGHT
BEGIN:STANDARD
TZOFFSETFROM:+0200
TZOFFSETTO:+0100
TZNAME:CET
DTSTART:20271031T010000
END:STANDARD
END:VTIMEZONE
BEGIN:VTIMEZONE
TZID:Europe/Bratislava
BEGIN:DAYLIGHT
TZOFFSETFROM:+0100
TZOFFSETTO:+0200
TZNAME:CEST
DTSTART:20240331T010000
END:DAYLIGHT
BEGIN:STANDARD
TZOFFSETFROM:+0200
TZOFFSETTO:+0100
TZNAME:CET
DTSTART:20241027T010000
END:STANDARD
BEGIN:DAYLIGHT
TZOFFSETFROM:+0100
TZOFFSETTO:+0200
TZNAME:CEST
DTSTART:20250330T010000
END:DAYLIGHT
BEGIN:STANDARD
TZOFFSETFROM:+0200
TZOFFSETTO:+0100
TZNAME:CET
DTSTART:20251026T010000
END:STANDARD
BEGIN:DAYLIGHT
TZOFFSETFROM:+0100
TZOFFSETTO:+0200
TZNAME:CEST
DTSTART:20260329T010000
END:DAYLIGHT
BEGIN:STANDARD
TZOFFSETFROM:+0200
TZOFFSETTO:+0100
TZNAME:CET
DTSTART:20261025T010000
END:STANDARD
END:VTIMEZONE
BEGIN:VEVENT
DTSTART;TZID=Europe/Paris:20260321T000000
DTEND;TZID=Europe/Paris:20260322T235900
DTSTAMP:20260423T110044
CREATED:20251230T134205Z
LAST-MODIFIED:20251230T185457Z
UID:16546-1774051200-1774223940@www.scbr.sk
SUMMARY:Štyri ročné obdobia
DESCRIPTION:Vzhľadom na možnosti CB – od pelendreku\, cez protiváhu\, drôtovku… až po smerovku na stožiari je veľmi zložité skritne upresniť kategórie. Vyberte si kategóriu\, na ktorú sa najviac cítite \nInfo na webe organizátora.
URL:https://www.scbr.sk/event/styri-rocne-obdobia/
LOCATION:CZE + SVK
END:VEVENT
BEGIN:VEVENT
DTSTART;TZID=Europe/Paris:20260221T120000
DTEND;TZID=Europe/Paris:20260222T120000
DTSTAMP:20260423T110044
CREATED:20251230T132940Z
LAST-MODIFIED:20260114T190240Z
UID:16544-1771675200-1771761600@www.scbr.sk
SUMMARY:TuTofka SSB - I. kolo
DESCRIPTION:Cieľom súťaže je propagácia a šírenie aktivít v CB pásme podľa platného Všeobecného povolenia. Súťaž bude prebiehať výhradne SSB modulácii\, pre CB pásmo je to horná postranné pásmo USB. \nKompletné propozície a ďalšie info na webstránke organizátora.
URL:https://www.scbr.sk/event/tutofka-ssb-i-kolo/
LOCATION:CZE + SVK
ATTACH;FMTTYPE=image/webp:https://www.scbr.sk/wp-content/uploads/tutofkassb.webp
ORGANIZER;CN="Alpinet Plze%C5%88":MAILTO:alpinet.plzen@seznam.cz
END:VEVENT
BEGIN:VEVENT
DTSTART;TZID=Europe/Paris:20260110T120000
DTEND;TZID=Europe/Paris:20260111T120000
DTSTAMP:20260423T110044
CREATED:20231210T184314Z
LAST-MODIFIED:20251216T110301Z
UID:14988-1768046400-1768132800@www.scbr.sk
SUMMARY:Zimný CB Závod 2026
DESCRIPTION:Novú CB sezónu odštartuje klasicky Zimný CB Závod.
URL:https://www.scbr.sk/event/zimny-cb-zavod-2024/
END:VEVENT
BEGIN:VEVENT
DTSTART;TZID=Europe/Paris:20251227T080000
DTEND;TZID=Europe/Paris:20251227T130000
DTSTAMP:20260423T110044
CREATED:20251222T123709Z
LAST-MODIFIED:20251222T123958Z
UID:16526-1766822400-1766840400@www.scbr.sk
SUMMARY:Stretnutie Trenčianska Teplá
DESCRIPTION:Oblastný CB rádioklub Stredné Považie pozýva všetkých priaznivcov rádioamatérskeho vysielania vo všetkých pásmach na stretnutie v Trenčianskej Teplej\, ms. časť Dobrá\, ktoré sa uskutoční v budove starej školy v sobotu 27. decembra 2025 od 8:00 do 13:00 h  \nVeríme\, že sa budete cítiť  dobre v kruhu svojich známych a priateľov\, vymeníte si skúsenosti\, dobre nakúpite\, ešte lepšie predáte. Určite na vás nezabudneme s bufetom\, to predsa k našej burze neodmysliteľne patrí. Nezabudnite oznámiť aj ďalším svojim známym\, aby taktiež zavítali medzi nás. Tešíme sa na všetkých\, skalných aj nových návštevníkov.  \nTohtoročné motto: Predaj čo môžeš
URL:https://www.scbr.sk/event/stretnutie-trencianska-tepla/
LOCATION:Dobrá
ORGANIZER;CN="Oblastn%C3%BD CB r%C3%A1dioklub Stredn%C3%A9 Pova%C5%BEie":MAILTO:ocbrklub@gmail.com
END:VEVENT
BEGIN:VEVENT
DTSTART;TZID=Europe/Paris:20251220T000000
DTEND;TZID=Europe/Paris:20251221T235959
DTSTAMP:20260423T110044
CREATED:20250817T084159Z
LAST-MODIFIED:20250817T084159Z
UID:16356-1766188800-1766361599@www.scbr.sk
SUMMARY:4 ročné obdobia - zima
DESCRIPTION:
URL:https://www.scbr.sk/event/4-rocne-obdobia-zima/
LOCATION:CZE + SVK
END:VEVENT
BEGIN:VEVENT
DTSTART;TZID=Europe/Paris:20251108T120000
DTEND;TZID=Europe/Paris:20251109T120000
DTSTAMP:20260423T110044
CREATED:20251027T192428Z
LAST-MODIFIED:20251027T192428Z
UID:16479-1762603200-1762689600@www.scbr.sk
SUMMARY:TuTofka - SSB CB súťaž
DESCRIPTION:
URL:https://www.scbr.sk/event/tutofka-ssb-cb-sutaz-2/
LOCATION:CZE + SVK
ORGANIZER;CN="Alpinet Plze%C5%88":MAILTO:alpinet.plzen@seznam.cz
END:VEVENT
BEGIN:VEVENT
DTSTART;TZID=Europe/Paris:20251017T180000
DTEND;TZID=Europe/Paris:20251019T180000
DTSTAMP:20260423T110044
CREATED:20250817T083750Z
LAST-MODIFIED:20250817T083750Z
UID:16354-1760724000-1760896800@www.scbr.sk
SUMMARY:CB maratón 48
DESCRIPTION:
URL:https://www.scbr.sk/event/cb-maraton-48/
LOCATION:CZE + SVK
ORGANIZER;CN="Mates Brno":MAILTO:lexa@fi.muni.cz
END:VEVENT
BEGIN:VEVENT
DTSTART;TZID=Europe/Paris:20250927T000000
DTEND;TZID=Europe/Paris:20250928T235959
DTSTAMP:20260423T110044
CREATED:20250817T083300Z
LAST-MODIFIED:20250821T054410Z
UID:16352-1758931200-1759103999@www.scbr.sk
SUMMARY:Štyri ročné obdobia - jeseň
DESCRIPTION:
URL:https://www.scbr.sk/event/styri-rocne-obdobia-jesen/
LOCATION:CZE + SVK
END:VEVENT
BEGIN:VEVENT
DTSTART;TZID=Europe/Paris:20250913T100000
DTEND;TZID=Europe/Paris:20250913T160000
DTSTAMP:20260423T110044
CREATED:20240726T090954Z
LAST-MODIFIED:20250831T110325Z
UID:15458-1757757600-1757779200@www.scbr.sk
SUMMARY:Stretnutie Slovenská Ľupča
DESCRIPTION:
URL:https://www.scbr.sk/event/stretnutie-slovenska-lupca/
END:VEVENT
BEGIN:VEVENT
DTSTART;TZID=Europe/Paris:20250913T060000
DTEND;TZID=Europe/Paris:20250914T150000
DTSTAMP:20260423T110044
CREATED:20250817T082518Z
LAST-MODIFIED:20250817T082518Z
UID:16347-1757743200-1757862000@www.scbr.sk
SUMMARY:Podzimní éter 33
DESCRIPTION:
URL:https://www.scbr.sk/event/podzimni-eter-33-3/
LOCATION:CZE + SVK
ORGANIZER;CN="Mates FM":MAILTO:sklerotici@gmail.com
END:VEVENT
BEGIN:VEVENT
DTSTART;TZID=Europe/Paris:20250828T000000
DTEND;TZID=Europe/Paris:20250831T235959
DTSTAMP:20260423T110044
CREATED:20250817T062748Z
LAST-MODIFIED:20250817T090316Z
UID:16338-1756339200-1756684799@www.scbr.sk
SUMMARY:RAPS - Rádioamatérske putovanie Slovenskom
DESCRIPTION:Priatelia všetkých pásiem rádioamatérskeho vysielania! \nOpäť je tu čas\, kedy sa chystáme za Vami\, do Vašich regiónov. RAPS\, ktorý organizuje oblastný CB rádioklub Stredné Považie\, sa uskutoční koncom augusta\, bude spojený s vysielaním počas cesty\, osobnými stretnutiami a aj s portejblovaním na východe Slovenska. Vysielať budeme na CB kanál 17\, PMR kanál 7 a na HAM frekvencii 145.500 MHz. \nPočas cesty nás budete môcť sledovať v reálnom čase na platforme VIBER v skupine ALL RADIO SK. Ak sa do skupiny chcete dostať\, napíšte mail na ocbrklub@gmail.com alebo SMS na 0903 260186. V prípade\, že sa chcete s nami stretnúť osobne\, dajte nám vedieť vopred\, alebo aj počas RAPSu a zaradíme stretnutie do plánu trasy. Všetky podklady vrátane časového plánu budú sú zverejnené tu \n28.8.2025\n10:00               Dubnica nad Váhom – štart\n11:00 – 11:15  Žilina (NC Atrium Dubeň)\n12:15               Ružomberok (prejazd)\n13:15               Poprad (prejazd)\n14:15 – 15:15  Prešov (prejazd) \n16:00 – 16:15  Vranov n/Topľou (Tesco\, Duklianskych hrdinov)\n17:00               Kaluža (nocľah) \n29.8.2025\n10:30 – 12:00  Košice Zlatá podkova (obed)\n13:00 – 16:00  Makovica (portejblové vysielanie)\n17:00               Košice (nocľah) \n30.8.2025\n10:00               Rožňava (prejazd)\n11:15 – 11:25   Lučenec \n15:00               Zvolen (nocľah) \n31.8.2025\n11:30 – 11:50   Šaľa\n12:30               Dunajská Streda (prejazd)\n13:15 – 14:15  Bratislava\n15:05 – 15:20  Trnava\n16:20               Dubnica nad Váhom – cieľ \n 
URL:https://www.scbr.sk/event/raps-radioamaterske-putovanie-slovenskom/
LOCATION:Slovensko\, Slovenská republika
ORGANIZER;CN="Oblastn%C3%BD CB r%C3%A1dioklub Stredn%C3%A9 Pova%C5%BEie":MAILTO:ocbrklub@gmail.com
END:VEVENT
BEGIN:VEVENT
DTSTART;TZID=Europe/Paris:20250822T060000
DTEND;TZID=Europe/Paris:20250823T200000
DTSTAMP:20260423T110044
CREATED:20250414T104656Z
LAST-MODIFIED:20250414T104656Z
UID:15960-1755842400-1755979200@www.scbr.sk
SUMMARY:Holice 2025
DESCRIPTION:Tradičné letné stretnutie priaznivcov rádiových vĺn s oficiálnym názvom – „35.mezinárodní setkání radioamatérů Holice 2025″ sa tohto roku začne v piatok 22.8.2025 burzou a blšákom\, pokračovať sa bude aj v sobotu 23.8.2025 hlavným programom\, kde okrem iného prebehne aj vyhodnotenie CB súťaží Éter bez Hraníc 2025 a Letní Polní Den 2025. Pokiaľ sa ku nám dostanú nové informácie\, budeme pozvánku priebežne doplňovať.
URL:https://www.scbr.sk/event/holice-2025/
LOCATION:Holice\, Holice\, Czech Republic
END:VEVENT
BEGIN:VEVENT
DTSTART;TZID=Europe/Bratislava:20250809T170000
DTEND;TZID=Europe/Bratislava:20250810T090000
DTSTAMP:20260423T110044
CREATED:20250407T090501Z
LAST-MODIFIED:20250407T090846Z
UID:15937-1754758800-1754816400@www.scbr.sk
SUMMARY:Slovenský CB poľný deň
DESCRIPTION:
URL:https://www.scbr.sk/event/slovenska-cb-polny-den/
LOCATION:SVK\, Slovenská republika
ORGANIZER;CN="SCBR":MAILTO:scbr@scbr.sk
END:VEVENT
BEGIN:VEVENT
DTSTART;TZID=Europe/Paris:20250809T120000
DTEND;TZID=Europe/Paris:20250810T120000
DTSTAMP:20260423T110044
CREATED:20250714T162914Z
LAST-MODIFIED:20250714T162950Z
UID:16300-1754740800-1754827200@www.scbr.sk
SUMMARY:TuTofka - SSB CB soutěž\, II. kolo
DESCRIPTION:
URL:https://www.scbr.sk/event/tutofka-ssb-cb-soutez/
LOCATION:CZE + SVK
ORGANIZER;CN="Alpinet Plze%C5%88":MAILTO:alpinet.plzen@seznam.cz
END:VEVENT
BEGIN:VEVENT
DTSTART;TZID=Europe/Paris:20250726T190000
DTEND;TZID=Europe/Paris:20250727T050000
DTSTAMP:20260423T110044
CREATED:20250414T105400Z
LAST-MODIFIED:20250414T122300Z
UID:15962-1753556400-1753592400@www.scbr.sk
SUMMARY:Letní polní den CB 2025
DESCRIPTION:Tradičná CB súťaž iba medzi dopredu prihlásenými stanicami sa bude tohto roku konať 26.-27.júla 2025. \nPropozície súťaže sú zverejnené – na tomto odkaze. \nPrihlásiť sa je možné – na tomto linku. \nPrehľad už prihlásených staníc nájdete – na tejto stránke.
URL:https://www.scbr.sk/event/letni-polni-den-cb-2025/
END:VEVENT
BEGIN:VEVENT
DTSTART;TZID=Europe/Paris:20250621T140000
DTEND;TZID=Europe/Paris:20250622T040000
DTSTAMP:20260423T110044
CREATED:20240429T072957Z
LAST-MODIFIED:20250612T203953Z
UID:15270-1750514400-1750564800@www.scbr.sk
SUMMARY:Fair Play CB závod 2025
DESCRIPTION:Rádioklub Barbakan Vás pozýva na piate pokračovanie Fair Play CB Závodu.
URL:https://www.scbr.sk/event/fair-play-cb-zavod-2024/
END:VEVENT
BEGIN:VEVENT
DTSTART;TZID=Europe/Paris:20250621T140000
DTEND;TZID=Europe/Paris:20250621T180000
DTSTAMP:20260423T110044
CREATED:20240617T180946Z
LAST-MODIFIED:20241126T115405Z
UID:15380-1750514400-1750528800@www.scbr.sk
SUMMARY:MDD CB závod 2025
DESCRIPTION:
URL:https://www.scbr.sk/event/mdd-cb-zavod/
LOCATION:CZE + SVK
ORGANIZER;CN="Mat%C3%BA%C5%A1 KVP Ko%C5%A1ice":MAILTO:om8ate@omradio.sk
END:VEVENT
BEGIN:VEVENT
DTSTART;TZID=Europe/Paris:20250621T100000
DTEND;TZID=Europe/Paris:20250621T200000
DTSTAMP:20260423T110044
CREATED:20250507T090638Z
LAST-MODIFIED:20250507T090638Z
UID:16102-1750500000-1750536000@www.scbr.sk
SUMMARY:Stretnutie Bankov - Košice
DESCRIPTION:4. ročník rádioamatérskeho stretnutia BANKOV sa uskutoční v sobotu 21. júna 2025 v čase od 10:00 do 20:00 h (koná sa za každého počasia\, bez náhradného termínu). Miestom konania bude opäť lokalita Horný Bankov pri Košiciach. V objekte je parkovisko pre cca 50 vozidiel\, parkovanie je zdarma. V okolí sú prístupné aj bufety s občerstvením. \nViac informácií nájdete na Facebooku
URL:https://www.scbr.sk/event/stretnutie-bankov-kosice/
LOCATION:Horný Bankov (Košice)\, Bankov 1360\, Košice Sever\, 04001\, Slovenská republika
ORGANIZER;CN="Mat%C3%BA%C5%A1 KVP Ko%C5%A1ice":MAILTO:om8ate@omradio.sk
END:VEVENT
BEGIN:VEVENT
DTSTART;TZID=Europe/Paris:20250607T220000
DTEND;TZID=Europe/Paris:20250608T030000
DTSTAMP:20260423T110044
CREATED:20250515T153337Z
LAST-MODIFIED:20250515T153337Z
UID:16130-1749333600-1749351600@www.scbr.sk
SUMMARY:Rozhledny 2025
DESCRIPTION:Aj tohto roku organizujú naši českí kolegovia akciu Rozhledny… Kto máte záujem sa pridať\, je potrebné Vašu rozhľadňu prihlásiť. Viac info v odkaze nižšie.
URL:https://www.scbr.sk/event/rozhledny-2025/
END:VEVENT
BEGIN:VEVENT
DTSTART;TZID=Europe/Paris:20250524T180000
DTEND;TZID=Europe/Paris:20250525T080000
DTSTAMP:20260423T110044
CREATED:20241223T191054Z
LAST-MODIFIED:20241223T191054Z
UID:15735-1748109600-1748160000@www.scbr.sk
SUMMARY:Éter Bez Hraníc 2025
DESCRIPTION:
URL:https://www.scbr.sk/event/eter-bez-hranic-2025/
END:VEVENT
END:VCALENDAR